BEGIN:VCALENDAR
VERSION:2.0
PRODID:-//Ryders Up Farm - ECPv6.15.20//NONSGML v1.0//EN
CALSCALE:GREGORIAN
METHOD:PUBLISH
X-ORIGINAL-URL:https://rydersupfarm.com
X-WR-CALDESC:Events for Ryders Up Farm
REFRESH-INTERVAL;VALUE=DURATION:PT1H
X-Robots-Tag:noindex
X-PUBLISHED-TTL:PT1H
BEGIN:VTIMEZONE
TZID:UTC
BEGIN:STANDARD
TZOFFSETFROM:+0000
TZOFFSETTO:+0000
TZNAME:UTC
DTSTART:20240101T000000
END:STANDARD
END:VTIMEZONE
BEGIN:VEVENT
DTSTART;VALUE=DATE:20251005
DTEND;VALUE=DATE:20251007
DTSTAMP:20260420T123923
CREATED:20250304T200653Z
LAST-MODIFIED:20250304T200653Z
UID:1787-1759622400-1759795199@rydersupfarm.com
SUMMARY:VHJA Hunter and Equitation Finals hosted at Ryders Up Farm
DESCRIPTION:
URL:https://rydersupfarm.com/event/vhja-hunter-and-equitation-finals-hosted-at-ryders-up-farm/
END:VEVENT
BEGIN:VEVENT
DTSTART;VALUE=DATE:20250920
DTEND;VALUE=DATE:20250922
DTSTAMP:20260420T123923
CREATED:20250304T200558Z
LAST-MODIFIED:20250304T200613Z
UID:1786-1758326400-1758499199@rydersupfarm.com
SUMMARY:Stryker Stable Charlotte\, VT
DESCRIPTION:
URL:https://rydersupfarm.com/event/stryker-stable-charlotte-vt-2/
END:VEVENT
BEGIN:VEVENT
DTSTART;VALUE=DATE:20250815
DTEND;VALUE=DATE:20250818
DTSTAMP:20260420T123923
CREATED:20250304T200536Z
LAST-MODIFIED:20250304T200536Z
UID:1785-1755216000-1755475199@rydersupfarm.com
SUMMARY:GMHA Woodstock\, VT
DESCRIPTION:
URL:https://rydersupfarm.com/event/gmha-woodstock-vt-3/
END:VEVENT
BEGIN:VEVENT
DTSTART;VALUE=DATE:20250726
DTEND;VALUE=DATE:20250728
DTSTAMP:20260420T123923
CREATED:20250304T200410Z
LAST-MODIFIED:20250304T200410Z
UID:1782-1753488000-1753660799@rydersupfarm.com
SUMMARY:Juniper Knoll Farm Jericho\, VT
DESCRIPTION:
URL:https://rydersupfarm.com/event/juniper-knoll-farm-jericho-vt-2/
END:VEVENT
BEGIN:VEVENT
DTSTART;VALUE=DATE:20250723
DTEND;VALUE=DATE:20250728
DTSTAMP:20260420T123923
CREATED:20250304T200459Z
LAST-MODIFIED:20250304T200459Z
UID:1784-1753228800-1753660799@rydersupfarm.com
SUMMARY:VSF Manchester\, VT
DESCRIPTION:
URL:https://rydersupfarm.com/event/vsf-manchester-vt/
END:VEVENT
BEGIN:VEVENT
DTSTART;VALUE=DATE:20250710
DTEND;VALUE=DATE:20250714
DTSTAMP:20260420T123923
CREATED:20250304T200330Z
LAST-MODIFIED:20250304T200330Z
UID:1781-1752105600-1752451199@rydersupfarm.com
SUMMARY:GMHA Woodstock\, VT
DESCRIPTION:
URL:https://rydersupfarm.com/event/gmha-woodstock-vt-2/
END:VEVENT
BEGIN:VEVENT
DTSTART;VALUE=DATE:20250621
DTEND;VALUE=DATE:20250623
DTSTAMP:20260420T123923
CREATED:20250304T200241Z
LAST-MODIFIED:20250304T200241Z
UID:1780-1750464000-1750636799@rydersupfarm.com
SUMMARY:Stryker Stable Charlotte\, VT
DESCRIPTION:
URL:https://rydersupfarm.com/event/stryker-stable-charlotte-vt/
END:VEVENT
BEGIN:VEVENT
DTSTART;VALUE=DATE:20250531
DTEND;VALUE=DATE:20250602
DTSTAMP:20260420T123923
CREATED:20250304T200158Z
LAST-MODIFIED:20250304T200158Z
UID:1779-1748649600-1748822399@rydersupfarm.com
SUMMARY:Juniper Knoll Farm Jericho\, VT
DESCRIPTION:
URL:https://rydersupfarm.com/event/juniper-knoll-farm-jericho-vt/
END:VEVENT
BEGIN:VEVENT
DTSTART;VALUE=DATE:20250517
DTEND;VALUE=DATE:20250519
DTSTAMP:20260420T123923
CREATED:20250304T200119Z
LAST-MODIFIED:20250304T200119Z
UID:1778-1747440000-1747612799@rydersupfarm.com
SUMMARY:GMHA Woodstock\, VT
DESCRIPTION:
URL:https://rydersupfarm.com/event/gmha-woodstock-vt/
END:VEVENT
END:VCALENDAR